BEGIN:VCALENDAR
VERSION:2.0
PRODID:-//Tukios.com/
BEGIN:VEVENT
UID:8c76da25-a1ff-4b6a-b2e3-9a9ae69b0445@www.mobilefuneralservice.com
DTSTAMP:20260424T181857Z
DTSTART:20260427T140000Z
DTEND:20260427T160000Z
SUMMARY:Public Visitation
DESCRIPTION:
URL:https://www.mobilefuneralservice.com/obituaries/joan-williamson
LOCATION:Mobile Memorial Gardens Funeral Home 6040 Three Notch Road  
	Mobile AL 36619
GEO:30.5895076;-88.1818719
END:VEVENT
END:VCALENDAR