BEGIN:VCALENDAR
VERSION:2.0
PRODID:-//Tukios.com/
BEGIN:VEVENT
UID:e323d22b-fd41-407f-8a63-1cac30fd005e@www.mobilefuneralservice.com
DTSTAMP:20260424T181953Z
DTSTART:20260427T160000Z
DTEND:20260427T163000Z
SUMMARY:Graveside Service
DESCRIPTION:
URL:https://www.mobilefuneralservice.com/obituaries/joan-williamson
LOCATION:Mobile Memorial Gardens Funeral Home 6040 Three Notch Road  
	Mobile AL 36619
GEO:30.5895076;-88.1818719
END:VEVENT
END:VCALENDAR