BEGIN:VCALENDAR
VERSION:2.0
PRODID:-//Tukios.com/
BEGIN:VEVENT
UID:5a155891-039d-455c-942a-507ac035caf6@www.mobilefuneralservice.com
DTSTAMP:20260421T000802Z
DTSTART:20260424T140000Z
DTEND:20260424T143000Z
SUMMARY:Graveside Service
DESCRIPTION:
URL:https://www.mobilefuneralservice.com/obituaries/peter-cowley
LOCATION:Mobile Memorial Gardens Funeral Home 6040 Three Notch Road  
	Mobile AL 36619
GEO:30.5895076;-88.1818719
END:VEVENT
END:VCALENDAR