BEGIN:VCALENDAR
VERSION:2.0
PRODID:-//Tukios.com/
BEGIN:VEVENT
UID:770b410c-9cd8-401a-9f84-3c462ed87fb7@www.mobilefuneralservice.com
DTSTAMP:20260420T002350Z
DTSTART:20260423T140000Z
DTEND:20260423T150000Z
SUMMARY:Public Visitation
DESCRIPTION:
URL:https://www.mobilefuneralservice.com/obituaries/william-heath-jr
LOCATION:Mobile Memorial Gardens Funeral Home 6040 Three Notch Road  
	Mobile AL 36619
GEO:30.5895076;-88.1818719
END:VEVENT
END:VCALENDAR