BEGIN:VCALENDAR
VERSION:2.0
PRODID:-//Tukios.com/
BEGIN:VEVENT
UID:e987e419-3675-4d21-a56b-25db7e7f392c@www.mobilefuneralservice.com
DTSTAMP:20260420T002426Z
DTSTART:20260423T150000Z
DTEND:20260423T153000Z
SUMMARY:Graveside Service
DESCRIPTION:
URL:https://www.mobilefuneralservice.com/obituaries/william-heath-jr
LOCATION:Mobile Memorial Gardens 6100 Three Notch Road  Mobile AL 36619
GEO:30.5915569;-88.1840118
END:VEVENT
END:VCALENDAR